Package: receptLoss Version: 1.19.0 Command: /home/biocbuild/bbs-3.21-bioc/R/bin/R CMD build --keep-empty-dirs --no-resave-data receptLoss StartedAt: 2025-02-03 19:00:51 -0500 (Mon, 03 Feb 2025) EndedAt: 2025-02-03 19:01:20 -0500 (Mon, 03 Feb 2025) EllapsedTime: 29.1 seconds RetCode: 0 Status: OK PackageFile: receptLoss_1.19.0.tar.gz PackageFileSize: 639.5 KiB