Package: receptLoss Version: 1.19.0 Command: rm -rf receptLoss.buildbin-libdir && mkdir receptLoss.buildbin-libdir && E:\biocbuild\bbs-3.21-bioc\R\bin\R.exe CMD INSTALL --build --library=receptLoss.buildbin-libdir receptLoss_1.19.0.tar.gz StartedAt: 2025-02-04 08:43:54 -0500 (Tue, 04 Feb 2025) EndedAt: 2025-02-04 08:44:20 -0500 (Tue, 04 Feb 2025) EllapsedTime: 26.2 seconds RetCode: 0 Status: OK PackageFile: receptLoss_1.19.0.zip PackageFileSize: 391.8 KiB