Package: receptLoss Version: 1.19.0 Command: chmod a+r receptLoss -R && E:\biocbuild\bbs-3.21-bioc\R\bin\R.exe CMD build --keep-empty-dirs --no-resave-data receptLoss StartedAt: 2025-02-03 21:18:42 -0500 (Mon, 03 Feb 2025) EndedAt: 2025-02-03 21:19:28 -0500 (Mon, 03 Feb 2025) EllapsedTime: 45.9 seconds RetCode: 0 Status: OK PackageFile: receptLoss_1.19.0.tar.gz PackageFileSize: 639.6 KiB