Package: receptLoss Version: 1.19.0 Command: E:\biocbuild\bbs-3.21-bioc\R\bin\R.exe CMD check --no-multiarch --install=check:receptLoss.install-out.txt --library=E:\biocbuild\bbs-3.21-bioc\R\library --no-vignettes --timings receptLoss_1.19.0.tar.gz StartedAt: 2025-02-10 04:33:58 -0500 (Mon, 10 Feb 2025) EndedAt: 2025-02-10 04:37:02 -0500 (Mon, 10 Feb 2025) EllapsedTime: 183.6 seconds RetCode: 0 Status: OK CheckDir: receptLoss.Rcheck Warnings: 0