Package: reconsi Version: 1.19.0 Command: /home/biocbuild/R/R/bin/R CMD build --keep-empty-dirs --no-resave-data reconsi StartedAt: 2025-01-29 01:34:51 -0000 (Wed, 29 Jan 2025) EndedAt: 2025-01-29 01:36:48 -0000 (Wed, 29 Jan 2025) EllapsedTime: 117.0 seconds RetCode: 0 Status: OK PackageFile: reconsi_1.19.0.tar.gz PackageFileSize: 97.24 KiB