Package: reconsi Version: 1.19.0 Command: /Library/Frameworks/R.framework/Resources/bin/R CMD build --keep-empty-dirs --no-resave-data reconsi StartedAt: 2025-02-09 18:07:23 -0500 (Sun, 09 Feb 2025) EndedAt: 2025-02-09 18:08:46 -0500 (Sun, 09 Feb 2025) EllapsedTime: 83.3 seconds RetCode: 0 Status: OK PackageFile: reconsi_1.19.0.tar.gz PackageFileSize: 140.1 KiB