Package: reconsi Version: 1.19.0 Command: /home/biocbuild/bbs-3.21-bioc/R/bin/R CMD check --install=check:reconsi.install-out.txt --library=/home/biocbuild/bbs-3.21-bioc/R/site-library --timings reconsi_1.19.0.tar.gz StartedAt: 2025-02-10 01:46:24 -0500 (Mon, 10 Feb 2025) EndedAt: 2025-02-10 01:50:23 -0500 (Mon, 10 Feb 2025) EllapsedTime: 239.3 seconds RetCode: 0 Status: OK CheckDir: reconsi.Rcheck Warnings: 0