Package: reconsi Version: 1.19.0 Command: /home/biocbuild/bbs-3.21-bioc/R/bin/R CMD INSTALL reconsi StartedAt: 2025-02-09 15:21:30 -0500 (Sun, 09 Feb 2025) EndedAt: 2025-02-09 15:21:50 -0500 (Sun, 09 Feb 2025) EllapsedTime: 19.2 seconds RetCode: 0 Status: OK