Package: reconsi Version: 1.19.0 Command: chmod a+r reconsi -R && E:\biocbuild\bbs-3.21-bioc\R\bin\R.exe CMD build --keep-empty-dirs --no-resave-data reconsi StartedAt: 2025-02-09 21:05:34 -0500 (Sun, 09 Feb 2025) EndedAt: 2025-02-09 21:07:06 -0500 (Sun, 09 Feb 2025) EllapsedTime: 92.5 seconds RetCode: 0 Status: OK PackageFile: reconsi_1.19.0.tar.gz PackageFileSize: 96.03 KiB