Package: recount Version: 1.33.0 Command: /Library/Frameworks/R.framework/Resources/bin/R CMD build --keep-empty-dirs --no-resave-data recount StartedAt: 2025-02-09 17:22:10 -0500 (Sun, 09 Feb 2025) EndedAt: 2025-02-09 17:28:15 -0500 (Sun, 09 Feb 2025) EllapsedTime: 365.1 seconds RetCode: 0 Status: OK PackageFile: recount_1.33.0.tar.gz PackageFileSize: 7.492 MiB