Package: recount Version: 1.33.0 Command: /Library/Frameworks/R.framework/Resources/bin/R CMD check --install=check:recount.install-out.txt --library=/Library/Frameworks/R.framework/Resources/library --no-vignettes --timings recount_1.33.0.tar.gz StartedAt: 2025-02-09 20:53:44 -0500 (Sun, 09 Feb 2025) EndedAt: 2025-02-09 20:58:05 -0500 (Sun, 09 Feb 2025) EllapsedTime: 261.3 seconds RetCode: 0 Status: OK CheckDir: recount.Rcheck Warnings: 0