Package: recount Version: 1.33.0 Command: /home/biocbuild/R/R/bin/R CMD build --keep-empty-dirs --no-resave-data recount StartedAt: 2025-01-29 01:34:55 -0000 (Wed, 29 Jan 2025) EndedAt: 2025-01-29 02:14:56 -0000 (Wed, 29 Jan 2025) EllapsedTime: 2401.0 seconds RetCode: None Status: TIMEOUT PackageFile: None PackageFileSize: NA