Package: recount Version: 1.33.0 Command: rm -rf recount.buildbin-libdir && mkdir recount.buildbin-libdir && /Users/biocbuild/BBS/utils/build-universal.sh recount_1.33.0.tar.gz /Library/Frameworks/R.framework/Resources/bin/R recount.buildbin-libdir StartedAt: 2025-02-10 01:11:07 -0500 (Mon, 10 Feb 2025) EndedAt: 2025-02-10 01:12:44 -0500 (Mon, 10 Feb 2025) EllapsedTime: 96.7 seconds RetCode: 0 Status: OK PackageFile: recount_1.33.0.tgz PackageFileSize: 7.852 MiB