Package: recount Version: 1.33.0 Command: /Library/Frameworks/R.framework/Resources/bin/R CMD build --keep-empty-dirs --no-resave-data recount StartedAt: 2025-02-12 18:00:17 -0500 (Wed, 12 Feb 2025) EndedAt: 2025-02-12 18:08:35 -0500 (Wed, 12 Feb 2025) EllapsedTime: 498.5 seconds RetCode: 0 Status: OK PackageFile: recount_1.33.0.tar.gz PackageFileSize: 7.491 MiB