Package: recount Version: 1.33.0 Command: /home/biocbuild/bbs-3.21-bioc/R/bin/R CMD build --keep-empty-dirs --no-resave-data recount StartedAt: 2025-02-09 18:52:15 -0500 (Sun, 09 Feb 2025) EndedAt: 2025-02-09 18:59:59 -0500 (Sun, 09 Feb 2025) EllapsedTime: 463.5 seconds RetCode: 0 Status: OK PackageFile: recount_1.33.0.tar.gz PackageFileSize: 7.275 MiB