Package: recount Version: 1.33.0 Command: /home/biocbuild/bbs-3.21-bioc/R/bin/R CMD check --install=check:recount.install-out.txt --library=/home/biocbuild/bbs-3.21-bioc/R/site-library --timings recount_1.33.0.tar.gz StartedAt: 2025-02-10 01:46:28 -0500 (Mon, 10 Feb 2025) EndedAt: 2025-02-10 02:01:44 -0500 (Mon, 10 Feb 2025) EllapsedTime: 916.4 seconds RetCode: 0 Status: OK CheckDir: recount.Rcheck Warnings: 0