Package: recount Version: 1.33.0 Command: /home/biocbuild/bbs-3.21-bioc/R/bin/R CMD INSTALL recount StartedAt: 2025-02-09 15:57:36 -0500 (Sun, 09 Feb 2025) EndedAt: 2025-02-09 15:58:48 -0500 (Sun, 09 Feb 2025) EllapsedTime: 72.0 seconds RetCode: 0 Status: OK