Package: recount Version: 1.33.0 Command: E:\biocbuild\bbs-3.21-bioc\R\bin\R.exe CMD INSTALL recount StartedAt: 2025-02-09 16:42:19 -0500 (Sun, 09 Feb 2025) EndedAt: 2025-02-09 16:43:40 -0500 (Sun, 09 Feb 2025) EllapsedTime: 81.2 seconds RetCode: 0 Status: OK