Package: regioneReloaded Version: 1.9.0 Command: /Library/Frameworks/R.framework/Resources/bin/R CMD check --install=check:regioneReloaded.install-out.txt --library=/Library/Frameworks/R.framework/Resources/library --no-vignettes --timings regioneReloaded_1.9.0.tar.gz StartedAt: 2025-02-04 20:56:40 -0500 (Tue, 04 Feb 2025) EndedAt: 2025-02-04 20:58:59 -0500 (Tue, 04 Feb 2025) EllapsedTime: 139.7 seconds RetCode: 0 Status: OK CheckDir: regioneReloaded.Rcheck Warnings: 0