Package: regioneReloaded Version: 1.9.0 Command: /home/biocbuild/R/R/bin/R CMD build --keep-empty-dirs --no-resave-data regioneReloaded StartedAt: 2025-01-29 01:36:28 -0000 (Wed, 29 Jan 2025) EndedAt: 2025-01-29 01:38:21 -0000 (Wed, 29 Jan 2025) EllapsedTime: 113.0 seconds RetCode: 0 Status: OK PackageFile: regioneReloaded_1.9.0.tar.gz PackageFileSize: 2.434 MiB