Package: regioneReloaded Version: 1.9.0 Command: /home/biocbuild/R/R/bin/R CMD check --install=check:regioneReloaded.install-out.txt --library=/home/biocbuild/R/R/site-library --no-vignettes --timings regioneReloaded_1.9.0.tar.gz StartedAt: 2025-01-28 14:26:29 -0000 (Tue, 28 Jan 2025) EndedAt: 2025-01-28 14:35:38 -0000 (Tue, 28 Jan 2025) EllapsedTime: 549.6 seconds RetCode: 0 Status: OK CheckDir: regioneReloaded.Rcheck Warnings: 0