Package: regioneReloaded Version: 1.9.0 Command: /home/biocbuild/R/R/bin/R CMD INSTALL regioneReloaded StartedAt: 2025-01-29 19:55:51 -0000 (Wed, 29 Jan 2025) EndedAt: 2025-01-29 19:56:39 -0000 (Wed, 29 Jan 2025) EllapsedTime: 48.2 seconds RetCode: 0 Status: OK