Package: regioneReloaded Version: 1.9.0 Command: /Library/Frameworks/R.framework/Resources/bin/R CMD check --install=check:regioneReloaded.install-out.txt --library=/Library/Frameworks/R.framework/Resources/library --no-vignettes --timings regioneReloaded_1.9.0.tar.gz StartedAt: 2025-02-09 23:02:28 -0500 (Sun, 09 Feb 2025) EndedAt: 2025-02-09 23:10:15 -0500 (Sun, 09 Feb 2025) EllapsedTime: 466.4 seconds RetCode: 0 Status: OK CheckDir: regioneReloaded.Rcheck Warnings: 0