Package: regioneReloaded Version: 1.9.0 Command: /home/biocbuild/bbs-3.21-bioc/R/bin/R CMD build --keep-empty-dirs --no-resave-data regioneReloaded StartedAt: 2025-02-03 19:01:51 -0500 (Mon, 03 Feb 2025) EndedAt: 2025-02-03 19:03:10 -0500 (Mon, 03 Feb 2025) EllapsedTime: 78.1 seconds RetCode: 0 Status: OK PackageFile: regioneReloaded_1.9.0.tar.gz PackageFileSize: 4.141 MiB