Package: regioneReloaded Version: 1.9.0 Command: /home/biocbuild/bbs-3.21-bioc/R/bin/R CMD check --install=check:regioneReloaded.install-out.txt --library=/home/biocbuild/bbs-3.21-bioc/R/site-library --timings regioneReloaded_1.9.0.tar.gz StartedAt: 2025-02-10 01:48:36 -0500 (Mon, 10 Feb 2025) EndedAt: 2025-02-10 01:56:02 -0500 (Mon, 10 Feb 2025) EllapsedTime: 445.7 seconds RetCode: 0 Status: OK CheckDir: regioneReloaded.Rcheck Warnings: 0