Package: regioneReloaded Version: 1.9.0 Command: rm -rf regioneReloaded.buildbin-libdir && mkdir regioneReloaded.buildbin-libdir && E:\biocbuild\bbs-3.21-bioc\R\bin\R.exe CMD INSTALL --build --library=regioneReloaded.buildbin-libdir regioneReloaded_1.9.0.tar.gz StartedAt: 2025-02-04 08:44:21 -0500 (Tue, 04 Feb 2025) EndedAt: 2025-02-04 08:45:24 -0500 (Tue, 04 Feb 2025) EllapsedTime: 63.1 seconds RetCode: 0 Status: OK PackageFile: regioneReloaded_1.9.0.zip PackageFileSize: 2.159 MiB