Package: regioneReloaded Version: 1.9.0 Command: chmod a+r regioneReloaded -R && E:\biocbuild\bbs-3.21-bioc\R\bin\R.exe CMD build --keep-empty-dirs --no-resave-data regioneReloaded StartedAt: 2025-02-09 21:06:43 -0500 (Sun, 09 Feb 2025) EndedAt: 2025-02-09 21:09:30 -0500 (Sun, 09 Feb 2025) EllapsedTime: 166.7 seconds RetCode: 0 Status: OK PackageFile: regioneReloaded_1.9.0.tar.gz PackageFileSize: 2.563 MiB