Package: regioneReloaded Version: 1.9.0 Command: E:\biocbuild\bbs-3.21-bioc\R\bin\R.exe CMD INSTALL regioneReloaded StartedAt: 2025-02-09 16:37:30 -0500 (Sun, 09 Feb 2025) EndedAt: 2025-02-09 16:38:50 -0500 (Sun, 09 Feb 2025) EllapsedTime: 79.6 seconds RetCode: 0 Status: OK