Package: regsplice Version: 1.33.0 Command: /Library/Frameworks/R.framework/Resources/bin/R CMD build --keep-empty-dirs --no-resave-data regsplice StartedAt: 2025-02-04 17:23:02 -0500 (Tue, 04 Feb 2025) EndedAt: 2025-02-04 17:23:22 -0500 (Tue, 04 Feb 2025) EllapsedTime: 20.2 seconds RetCode: 0 Status: OK PackageFile: regsplice_1.33.0.tar.gz PackageFileSize: 287.1 KiB