Package: regsplice Version: 1.33.0 Command: /Library/Frameworks/R.framework/Resources/bin/R CMD INSTALL regsplice StartedAt: 2025-02-04 15:21:41 -0500 (Tue, 04 Feb 2025) EndedAt: 2025-02-04 15:21:50 -0500 (Tue, 04 Feb 2025) EllapsedTime: 8.3 seconds RetCode: 0 Status: OK