Package: regsplice Version: 1.33.0 Command: /Library/Frameworks/R.framework/Resources/bin/R CMD build --keep-empty-dirs --no-resave-data regsplice StartedAt: 2025-02-04 18:00:36 -0500 (Tue, 04 Feb 2025) EndedAt: 2025-02-04 18:01:34 -0500 (Tue, 04 Feb 2025) EllapsedTime: 58.0 seconds RetCode: 0 Status: OK PackageFile: regsplice_1.33.0.tar.gz PackageFileSize: 287 KiB