Package: regsplice Version: 1.33.0 Command: /Library/Frameworks/R.framework/Resources/bin/R CMD check --install=check:regsplice.install-out.txt --library=/Library/Frameworks/R.framework/Resources/library --no-vignettes --timings regsplice_1.33.0.tar.gz StartedAt: 2025-02-04 22:44:46 -0500 (Tue, 04 Feb 2025) EndedAt: 2025-02-04 22:48:34 -0500 (Tue, 04 Feb 2025) EllapsedTime: 227.5 seconds RetCode: 0 Status: OK CheckDir: regsplice.Rcheck Warnings: 0