Package: regsplice Version: 1.33.0 Command: /home/biocbuild/bbs-3.21-bioc/R/bin/R CMD INSTALL regsplice StartedAt: 2025-02-04 15:21:20 -0500 (Tue, 04 Feb 2025) EndedAt: 2025-02-04 15:21:41 -0500 (Tue, 04 Feb 2025) EllapsedTime: 21.0 seconds RetCode: 0 Status: OK