Package: regsplice Version: 1.33.0 Command: E:\biocbuild\bbs-3.21-bioc\R\bin\R.exe CMD check --no-multiarch --install=check:regsplice.install-out.txt --library=E:\biocbuild\bbs-3.21-bioc\R\library --no-vignettes --timings regsplice_1.33.0.tar.gz StartedAt: 2025-02-05 05:02:06 -0500 (Wed, 05 Feb 2025) EndedAt: 2025-02-05 05:06:14 -0500 (Wed, 05 Feb 2025) EllapsedTime: 248.0 seconds RetCode: 0 Status: OK CheckDir: regsplice.Rcheck Warnings: 0