Package: regsplice Version: 1.33.0 Command: E:\biocbuild\bbs-3.21-bioc\R\bin\R.exe CMD INSTALL regsplice StartedAt: 2025-02-04 16:32:51 -0500 (Tue, 04 Feb 2025) EndedAt: 2025-02-04 16:33:32 -0500 (Tue, 04 Feb 2025) EllapsedTime: 41.1 seconds RetCode: 0 Status: OK