Package: regutools Version: 1.19.0 Maintainer: Joselyn Chavez MaintainerEmail: joselynchavezf at gmail.com git_url: https://git.bioconductor.org/packages/regutools git_branch: devel git_last_commit: 76d6606 git_last_commit_date: 2024-12-10 16:29:20 -0500 (Tue, 10 Dec 2024)