Package: regutools Version: 1.19.0 Command: /Library/Frameworks/R.framework/Resources/bin/R CMD check --install=check:regutools.install-out.txt --library=/Library/Frameworks/R.framework/Resources/library --no-vignettes --timings regutools_1.19.0.tar.gz StartedAt: 2025-02-04 20:56:52 -0500 (Tue, 04 Feb 2025) EndedAt: 2025-02-04 21:00:25 -0500 (Tue, 04 Feb 2025) EllapsedTime: 212.8 seconds RetCode: 0 Status: OK CheckDir: regutools.Rcheck Warnings: 0