Package: regutools Version: 1.19.0 Command: /Library/Frameworks/R.framework/Resources/bin/R CMD INSTALL regutools StartedAt: 2025-02-04 15:19:12 -0500 (Tue, 04 Feb 2025) EndedAt: 2025-02-04 15:19:33 -0500 (Tue, 04 Feb 2025) EllapsedTime: 21.8 seconds RetCode: 0 Status: OK