Package: regutools Version: 1.19.0 Command: /home/biocbuild/R/R/bin/R CMD build --keep-empty-dirs --no-resave-data regutools StartedAt: 2025-01-29 01:36:54 -0000 (Wed, 29 Jan 2025) EndedAt: 2025-01-29 01:38:53 -0000 (Wed, 29 Jan 2025) EllapsedTime: 119.1 seconds RetCode: 0 Status: OK PackageFile: regutools_1.19.0.tar.gz PackageFileSize: 388.7 KiB