Package: regutools Version: 1.19.0 Command: /home/biocbuild/R/R/bin/R CMD INSTALL regutools StartedAt: 2025-01-29 20:14:49 -0000 (Wed, 29 Jan 2025) EndedAt: 2025-01-29 20:16:03 -0000 (Wed, 29 Jan 2025) EllapsedTime: 74.2 seconds RetCode: 0 Status: OK