Package: regutools Version: 1.19.0 Command: /Library/Frameworks/R.framework/Resources/bin/R CMD check --install=check:regutools.install-out.txt --library=/Library/Frameworks/R.framework/Resources/library --no-vignettes --timings regutools_1.19.0.tar.gz StartedAt: 2025-02-09 23:02:37 -0500 (Sun, 09 Feb 2025) EndedAt: 2025-02-09 23:11:41 -0500 (Sun, 09 Feb 2025) EllapsedTime: 544.2 seconds RetCode: 0 Status: OK CheckDir: regutools.Rcheck Warnings: 0