Package: regutools Version: 1.19.0 Command: /home/biocbuild/bbs-3.21-bioc/R/bin/R CMD build --keep-empty-dirs --no-resave-data regutools StartedAt: 2025-02-09 18:53:28 -0500 (Sun, 09 Feb 2025) EndedAt: 2025-02-09 18:54:54 -0500 (Sun, 09 Feb 2025) EllapsedTime: 86.1 seconds RetCode: 0 Status: OK PackageFile: regutools_1.19.0.tar.gz PackageFileSize: 373.4 KiB