Package: regutools Version: 1.19.0 Command: /home/biocbuild/bbs-3.21-bioc/R/bin/R CMD check --install=check:regutools.install-out.txt --library=/home/biocbuild/bbs-3.21-bioc/R/site-library --timings regutools_1.19.0.tar.gz StartedAt: 2025-02-10 01:49:33 -0500 (Mon, 10 Feb 2025) EndedAt: 2025-02-10 01:58:43 -0500 (Mon, 10 Feb 2025) EllapsedTime: 549.9 seconds RetCode: 0 Status: OK CheckDir: regutools.Rcheck Warnings: 0