Package: regutools Version: 1.19.0 Command: chmod a+r regutools -R && E:\biocbuild\bbs-3.21-bioc\R\bin\R.exe CMD build --keep-empty-dirs --no-resave-data regutools StartedAt: 2025-02-09 21:07:07 -0500 (Sun, 09 Feb 2025) EndedAt: 2025-02-09 21:09:17 -0500 (Sun, 09 Feb 2025) EllapsedTime: 129.5 seconds RetCode: 0 Status: OK PackageFile: regutools_1.19.0.tar.gz PackageFileSize: 359.9 KiB