Package: regutools Version: 1.19.0 Command: E:\biocbuild\bbs-3.21-bioc\R\bin\R.exe CMD INSTALL regutools StartedAt: 2025-02-03 16:56:53 -0500 (Mon, 03 Feb 2025) EndedAt: 2025-02-03 16:58:06 -0500 (Mon, 03 Feb 2025) EllapsedTime: 73.7 seconds RetCode: 0 Status: OK