Package: rexposome Version: 1.29.0 Command: /home/biocbuild/R/R/bin/R CMD build --keep-empty-dirs --no-resave-data rexposome StartedAt: 2025-01-29 01:38:53 -0000 (Wed, 29 Jan 2025) EndedAt: 2025-01-29 01:41:19 -0000 (Wed, 29 Jan 2025) EllapsedTime: 146.1 seconds RetCode: 0 Status: OK PackageFile: rexposome_1.29.0.tar.gz PackageFileSize: 5.787 MiB