Package: rexposome Version: 1.29.0 Command: /home/biocbuild/R/R/bin/R CMD check --install=check:rexposome.install-out.txt --library=/home/biocbuild/R/R/site-library --no-vignettes --timings rexposome_1.29.0.tar.gz StartedAt: 2025-01-28 14:27:56 -0000 (Tue, 28 Jan 2025) EndedAt: 2025-01-28 14:31:49 -0000 (Tue, 28 Jan 2025) EllapsedTime: 233.3 seconds RetCode: 0 Status: WARNINGS CheckDir: rexposome.Rcheck Warnings: 5