Package: rexposome Version: 1.29.0 Command: /home/biocbuild/R/R/bin/R CMD INSTALL rexposome StartedAt: 2025-01-29 20:25:51 -0000 (Wed, 29 Jan 2025) EndedAt: 2025-01-29 20:26:20 -0000 (Wed, 29 Jan 2025) EllapsedTime: 29.5 seconds RetCode: 0 Status: OK