Package: rexposome Version: 1.29.0 Command: rm -rf rexposome.buildbin-libdir && mkdir rexposome.buildbin-libdir && /Users/biocbuild/BBS/utils/build-universal.sh rexposome_1.29.0.tar.gz /Library/Frameworks/R.framework/Resources/bin/R rexposome.buildbin-libdir StartedAt: 2025-02-10 01:11:33 -0500 (Mon, 10 Feb 2025) EndedAt: 2025-02-10 01:12:08 -0500 (Mon, 10 Feb 2025) EllapsedTime: 35.7 seconds RetCode: 0 Status: OK PackageFile: rexposome_1.29.0.tgz PackageFileSize: 9.152 MiB