Package: rexposome Version: 1.29.0 Command: /home/biocbuild/bbs-3.21-bioc/R/bin/R CMD build --keep-empty-dirs --no-resave-data rexposome StartedAt: 2025-02-09 18:54:24 -0500 (Sun, 09 Feb 2025) EndedAt: 2025-02-09 18:55:53 -0500 (Sun, 09 Feb 2025) EllapsedTime: 89.1 seconds RetCode: 0 Status: OK PackageFile: rexposome_1.29.0.tar.gz PackageFileSize: 8.053 MiB